BEGIN:VCALENDAR
VERSION:2.0
PRODID:-//Tónlistarskóli Ísafjarðar - ECPv6.15.20//NONSGML v1.0//EN
CALSCALE:GREGORIAN
METHOD:PUBLISH
X-WR-CALNAME:Tónlistarskóli Ísafjarðar
X-ORIGINAL-URL:https://tonis.is
X-WR-CALDESC:Events for Tónlistarskóli Ísafjarðar
REFRESH-INTERVAL;VALUE=DURATION:PT1H
X-Robots-Tag:noindex
X-PUBLISHED-TTL:PT1H
BEGIN:VTIMEZONE
TZID:Atlantic/Reykjavik
BEGIN:STANDARD
TZOFFSETFROM:+0000
TZOFFSETTO:+0000
TZNAME:GMT
DTSTART:20170101T000000
END:STANDARD
END:VTIMEZONE
BEGIN:VEVENT
DTSTART;VALUE=DATE:20190107
DTEND;VALUE=DATE:20190108
DTSTAMP:20260420T224357
CREATED:20181127T113857Z
LAST-MODIFIED:20181127T113857Z
UID:27140-1546819200-1546905599@tonis.is
SUMMARY:Fyrsti kennsludagur
DESCRIPTION:
URL:https://tonis.is/event/fyrsti-kennsludagur/
END:VEVENT
BEGIN:VEVENT
DTSTART;VALUE=DATE:20181219
DTEND;VALUE=DATE:20181220
DTSTAMP:20260420T224357
CREATED:20181127T113829Z
LAST-MODIFIED:20181127T113829Z
UID:27138-1545177600-1545263999@tonis.is
SUMMARY:Seinasti kennsludagur fyrir jólafrí
DESCRIPTION:
URL:https://tonis.is/event/seinasti-kennsludagur-fyrir-jolafri/
END:VEVENT
BEGIN:VEVENT
DTSTART;TZID=Atlantic/Reykjavik:20181210T080000
DTEND;TZID=Atlantic/Reykjavik:20181213T170000
DTSTAMP:20260420T224357
CREATED:20181127T113745Z
LAST-MODIFIED:20181127T113745Z
UID:27135-1544428800-1544720400@tonis.is
SUMMARY:Jólanemanda tónleikar
DESCRIPTION:
URL:https://tonis.is/event/jolanemanda-tonleikar/
LOCATION:Tónlistarskólinn Hamrar
ATTACH;FMTTYPE=image/jpeg:https://tonis.is/wp-content/uploads/2018/11/Jólatrommumörgæs.jpg
END:VEVENT
BEGIN:VEVENT
DTSTART;TZID=Atlantic/Reykjavik:20181208T153000
DTEND;TZID=Atlantic/Reykjavik:20181208T173000
DTSTAMP:20260420T224357
CREATED:20181105T150212Z
LAST-MODIFIED:20181105T150212Z
UID:27120-1544283000-1544290200@tonis.is
SUMMARY:Torgsala á Silfurtorgi
DESCRIPTION:Tendrun jólaljósa á Silfurtorgi
URL:https://tonis.is/event/torgsala-a-silfurtorgi/
END:VEVENT
BEGIN:VEVENT
DTSTART;TZID=Atlantic/Reykjavik:20181207T080000
DTEND;TZID=Atlantic/Reykjavik:20181207T170000
DTSTAMP:20260420T224357
CREATED:20181207T125731Z
LAST-MODIFIED:20181207T125731Z
UID:27142-1544169600-1544202000@tonis.is
SUMMARY:Fréttabréf
DESCRIPTION:
URL:https://tonis.is/event/frettabref/
ATTACH;FMTTYPE=image/jpeg:https://tonis.is/wp-content/uploads/2018/12/bls1_net-.jpg
END:VEVENT
BEGIN:VEVENT
DTSTART;VALUE=DATE:20181201
DTEND;VALUE=DATE:20181202
DTSTAMP:20260420T224357
CREATED:20181105T150004Z
LAST-MODIFIED:20181105T150004Z
UID:27118-1543622400-1543708799@tonis.is
SUMMARY:100 ára afmæli fullveldisins
DESCRIPTION:Sunnukór\, tónleikar á Þingeyri \nKK og Ellen með tónleika á Þingeyri
URL:https://tonis.is/event/100-ara-afmaeli-fullveldisins/
END:VEVENT
BEGIN:VEVENT
DTSTART;TZID=Atlantic/Reykjavik:20181129T180000
DTEND;TZID=Atlantic/Reykjavik:20181129T193000
DTSTAMP:20260420T224357
CREATED:20181105T145536Z
LAST-MODIFIED:20181105T145536Z
UID:27110-1543514400-1543519800@tonis.is
SUMMARY:Kalli og sælgætisgerðin V. sýning
DESCRIPTION:
URL:https://tonis.is/event/kalli-og-saelgaetisgerdin-v-syning/
LOCATION:Tónlistarskólinn Hamrar
END:VEVENT
BEGIN:VEVENT
DTSTART;TZID=Atlantic/Reykjavik:20181128T180000
DTEND;TZID=Atlantic/Reykjavik:20181128T193000
DTSTAMP:20260420T224357
CREATED:20181105T144811Z
LAST-MODIFIED:20181105T145440Z
UID:27098-1543428000-1543433400@tonis.is
SUMMARY:Kalli og sælgætisgerðin\, IV. sýning
DESCRIPTION:
URL:https://tonis.is/event/kalli-og-saelgaetisgerdin-frumsyning/
LOCATION:Tónlistarskólinn Hamrar
END:VEVENT
BEGIN:VEVENT
DTSTART;TZID=Atlantic/Reykjavik:20181127T180000
DTEND;TZID=Atlantic/Reykjavik:20181127T193000
DTSTAMP:20260420T224357
CREATED:20181105T145328Z
LAST-MODIFIED:20181105T145328Z
UID:27108-1543341600-1543347000@tonis.is
SUMMARY:Kalli og sælgætisgerðin III. sýning
DESCRIPTION:
URL:https://tonis.is/event/kalli-og-saelgaetisgerdin-iii-syning/
END:VEVENT
BEGIN:VEVENT
DTSTART;TZID=Atlantic/Reykjavik:20181125T180000
DTEND;TZID=Atlantic/Reykjavik:20181125T193000
DTSTAMP:20260420T224357
CREATED:20181105T145219Z
LAST-MODIFIED:20181105T145403Z
UID:27106-1543168800-1543174200@tonis.is
SUMMARY:Kalli og sælgætisgerðin II. sýning
DESCRIPTION:
URL:https://tonis.is/event/kalli-og-saelgaetisgerdin-ii-syning/
LOCATION:Tónlistarskólinn Hamrar
END:VEVENT
BEGIN:VEVENT
DTSTART;TZID=Atlantic/Reykjavik:20181125T140000
DTEND;TZID=Atlantic/Reykjavik:20181125T153000
DTSTAMP:20260420T224357
CREATED:20181105T145139Z
LAST-MODIFIED:20181105T145139Z
UID:27104-1543154400-1543159800@tonis.is
SUMMARY:Kalli og sælgætisgerðin\, frumsýning
DESCRIPTION:
URL:https://tonis.is/event/kalli-og-saelgaetisgerdin-frumsyning-2/
END:VEVENT
BEGIN:VEVENT
DTSTART;TZID=Atlantic/Reykjavik:20181116T080000
DTEND;TZID=Atlantic/Reykjavik:20181116T170000
DTSTAMP:20260420T224357
CREATED:20181105T145855Z
LAST-MODIFIED:20181105T145855Z
UID:27116-1542355200-1542387600@tonis.is
SUMMARY:Dagur íslenskar tungu
DESCRIPTION:Grunnskólinn með dagskrá í Hömrum frá kl. 10:20-11:00
URL:https://tonis.is/event/dagur-islenskar-tungu/
LOCATION:Tónlistarskólinn Hamrar
END:VEVENT
BEGIN:VEVENT
DTSTART;VALUE=DATE:20181114
DTEND;VALUE=DATE:20181115
DTSTAMP:20260420T224357
CREATED:20181105T145802Z
LAST-MODIFIED:20181105T145802Z
UID:27114-1542153600-1542239999@tonis.is
SUMMARY:Tónleikar söngdeildar
DESCRIPTION:Í tilefni af degi íslenskar tungu verður söngdeildin með sína árlegu tónleika
URL:https://tonis.is/event/tonleikar-songdeildar/
END:VEVENT
BEGIN:VEVENT
DTSTART;VALUE=DATE:20181107
DTEND;VALUE=DATE:20181108
DTSTAMP:20260420T224357
CREATED:20181105T145704Z
LAST-MODIFIED:20181105T145704Z
UID:27112-1541548800-1541635199@tonis.is
SUMMARY:Hlíf og Eyri - Píanó og harmónikunemendur Rúnu
DESCRIPTION:
URL:https://tonis.is/event/hlif-og-eyri-piano-og-harmonikunemendur-runu/
END:VEVENT
BEGIN:VEVENT
DTSTART;VALUE=DATE:20181022
DTEND;VALUE=DATE:20181027
DTSTAMP:20260420T224357
CREATED:20181009T113454Z
LAST-MODIFIED:20181009T113454Z
UID:27089-1540166400-1540598399@tonis.is
SUMMARY:Foreldradagar
DESCRIPTION:
URL:https://tonis.is/event/foreldradagar/
END:VEVENT
BEGIN:VEVENT
DTSTART;VALUE=DATE:20181018
DTEND;VALUE=DATE:20181020
DTSTAMP:20260420T224357
CREATED:20181009T113426Z
LAST-MODIFIED:20181009T113426Z
UID:27087-1539820800-1539993599@tonis.is
SUMMARY:Vetrarfrí
DESCRIPTION:
URL:https://tonis.is/event/vetrarfri-3/
END:VEVENT
BEGIN:VEVENT
DTSTART;VALUE=DATE:20181017
DTEND;VALUE=DATE:20181018
DTSTAMP:20260420T224357
CREATED:20181009T110512Z
LAST-MODIFIED:20181009T110621Z
UID:27063-1539734400-1539820799@tonis.is
SUMMARY:Óhefðbundinn kennsla
DESCRIPTION:Kennsla verður með óheðbundnu sniði daginn fyrir vetrarfrí.
URL:https://tonis.is/event/vetrarfri/
END:VEVENT
BEGIN:VEVENT
DTSTART;TZID=Atlantic/Reykjavik:20181013T150000
DTEND;TZID=Atlantic/Reykjavik:20181013T170000
DTSTAMP:20260420T224357
CREATED:20181009T113330Z
LAST-MODIFIED:20181009T113330Z
UID:27084-1539442800-1539450000@tonis.is
SUMMARY:Heimilistónar
DESCRIPTION:
URL:https://tonis.is/event/heimilistonar/
LOCATION:Ísafjörður/Eyrin
END:VEVENT
BEGIN:VEVENT
DTSTART;TZID=Atlantic/Reykjavik:20181013T120500
DTEND;TZID=Atlantic/Reykjavik:20181013T143000
DTSTAMP:20260420T224357
CREATED:20181009T111826Z
LAST-MODIFIED:20181009T111826Z
UID:27074-1539432300-1539441000@tonis.is
SUMMARY:Afmælishátíð í húsnæði Tónlistarskóla Ísafjarðar.
DESCRIPTION:Afmælishátíð með Lúðraþyt og dagskrá í Hömrum
URL:https://tonis.is/event/afmaelishatid-i-husnaedi-tonlistarskola-isafjardar/
LOCATION:Tónnlistarskólinn
END:VEVENT
BEGIN:VEVENT
DTSTART;TZID=Atlantic/Reykjavik:20181012T090000
DTEND;TZID=Atlantic/Reykjavik:20181012T141500
DTSTAMP:20260420T224357
CREATED:20181009T112425Z
LAST-MODIFIED:20181009T113221Z
UID:27080-1539334800-1539353700@tonis.is
SUMMARY:Spunagleði
DESCRIPTION:Í samvinnu við Grunnskólann á Ísafirði verður spunadagur fyrir 4.-10. bekk á kennsludeginum 12. október.
URL:https://tonis.is/event/vetrarfri-2/
END:VEVENT
BEGIN:VEVENT
DTSTART;TZID=Atlantic/Reykjavik:20181011T170000
DTEND;TZID=Atlantic/Reykjavik:20181011T180000
DTSTAMP:20260420T224357
CREATED:20181009T112119Z
LAST-MODIFIED:20181009T112119Z
UID:27078-1539277200-1539280800@tonis.is
SUMMARY:Veisla og æfing
DESCRIPTION:Veisla og æfing fyrir nemendur T.Í  í Hömrum frá klukkan 17:00 – 18:00
URL:https://tonis.is/event/veisla-og-aefing/
LOCATION:Tónlistarskólinn Hamrar
END:VEVENT
BEGIN:VEVENT
DTSTART;TZID=Atlantic/Reykjavik:20181011T080000
DTEND;TZID=Atlantic/Reykjavik:20181013T170000
DTSTAMP:20260420T224357
CREATED:20181009T110704Z
LAST-MODIFIED:20181009T110704Z
UID:27067-1539244800-1539450000@tonis.is
SUMMARY:Afmælishátíð T.Í
DESCRIPTION:
URL:https://tonis.is/event/afmaelishatid-t-i/
LOCATION:Tónnlistarskólinn
END:VEVENT
BEGIN:VEVENT
DTSTART;TZID=Atlantic/Reykjavik:20181011T080000
DTEND;TZID=Atlantic/Reykjavik:20181011T170000
DTSTAMP:20260420T224357
CREATED:20181009T111904Z
LAST-MODIFIED:20181009T111904Z
UID:27076-1539244800-1539277200@tonis.is
SUMMARY:Óhefðbundin kennsla
DESCRIPTION:
URL:https://tonis.is/event/ohefdbundin-kennsla/
END:VEVENT
BEGIN:VEVENT
DTSTART;TZID=Atlantic/Reykjavik:20181008T080000
DTEND;TZID=Atlantic/Reykjavik:20181009T170000
DTSTAMP:20260420T224357
CREATED:20181009T110803Z
LAST-MODIFIED:20181009T111210Z
UID:27069-1538985600-1539104400@tonis.is
SUMMARY:Myndatökur
DESCRIPTION:Mánudag 8. október  \n17:00 Fiðla\, \n17:15 Gítar og nemendur í Raftónlist. \n17:30 Harmonika\, píanó \n17:45 Slagverk \n18:00 Blásarar \n18:15 Skólalúðrasveit/Lúðrasveit \nÞriðjudag 9.október  \n15:00 Forskóli\, Tónasmiðja\, Trommusmiðja \n15:15 Kór 1.-2. bekkur\, Kórskóli 3.-4. bekkur \n15:30 Söngur -* Mögulega verður breyting á tímasetningu myndatöku söngdeildar (gæti færst um 60 mín.) \n  \n 
URL:https://tonis.is/event/mynadatokur/
END:VEVENT
BEGIN:VEVENT
DTSTART;TZID=Atlantic/Reykjavik:20180929T170000
DTEND;TZID=Atlantic/Reykjavik:20180929T180000
DTSTAMP:20260420T224357
CREATED:20180927T102846Z
LAST-MODIFIED:20180927T102846Z
UID:27054-1538240400-1538244000@tonis.is
SUMMARY:Hljómsveitin Mandolin
DESCRIPTION:K \nÁ efnisskránni er tónlist úr smiðjum Shostakovich\, Kurt Weill og Astor Piazzolla í bland við sprellfjöruga klezmertónlist\, finnska tangóa\, ameríska angurværð og balkanstuð eins og það gerist best. Fyrir utan allt hitt.  \nTónleikarnir hefjast klukkan 17 og aðgangseyrir er 3000 krónur. Eldri borgarar og öryrkjar 2000 krónur\, ókeypis inn fyrir 12 ára og yngri. \nHljómsveitina skipa: \nElísabet Indra Ragnarsdóttir\, fiðla\nGuðrún Árnadóttir\, fiðla og söngur\nMartin Kollmar\, klarinett og söngur\nÓskar Sturluson\, gítar og söngur\nÁstvaldur Traustason\, harmónika\nSigríður Ásta Árnadóttir\, harmónika og söngur\nBjarni Bragi Kjartansson\, kontrabassi \n  \n Með tónlistarkveðju \nTónlistarfélag Ísafjarðar
URL:https://tonis.is/event/hljomsveitin-mandolin/
LOCATION:Tónlistarskólinn Hamrar
ATTACH;FMTTYPE=image/jpeg:https://tonis.is/wp-content/uploads/2018/09/mandolin.jpg
END:VEVENT
BEGIN:VEVENT
DTSTART;VALUE=DATE:20180907
DTEND;VALUE=DATE:20180908
DTSTAMP:20260420T224357
CREATED:20180906T110533Z
LAST-MODIFIED:20180906T110533Z
UID:27040-1536278400-1536364799@tonis.is
SUMMARY:Starfsdagur
DESCRIPTION:Vegna haustþings Tónlistarskóla á Vestfjörðum
URL:https://tonis.is/event/starfsdagur/
END:VEVENT
BEGIN:VEVENT
DTSTART;TZID=Atlantic/Reykjavik:20180901T170000
DTEND;TZID=Atlantic/Reykjavik:20180901T180000
DTSTAMP:20260420T224357
CREATED:20180830T122336Z
LAST-MODIFIED:20180830T122640Z
UID:27036-1535821200-1535824800@tonis.is
SUMMARY:Fyrstu Tónleikar Tónlistarfélagsins
DESCRIPTION:Verið velkomin á stórtónleika með okkar ástsæla bassasöngvara\, Kristni Sigmyndssyni og Önnu Guðnýju Guðmundsdóttur píanóleikara. Tónleikar þessir verða fyrstu tónleikar Tónlistarfélagsins tónleikaárið 2018/2019 og jafnframt upphafið af stórafmælisári félagsins og Tónlistarskóla Ísafjarðar.\nÁ efnisskránni má m.a. hlýða á ljóð eftir F. Schubert\, R. Schumann\, og Atla H. Sveinsson auk undurfagurra antik-aría.\nTónleikar sem enginn ætti að láta framhjá sér fara.\nMiðar á tónleikana verða seldir við innganginn.\nMiðaverð er kr. 3.000\, en kr. 2.000 fyrir eldri borgara og öryrkja\, og ókeypis er fyrir skólafólk 20 ára og yngri.
URL:https://tonis.is/event/27036/
LOCATION:Tónlistarskólinn Hamrar
ATTACH;FMTTYPE=image/jpeg:https://tonis.is/wp-content/uploads/2018/08/Kristinn-og-Anna-Guðný.jpg
END:VEVENT
BEGIN:VEVENT
DTSTART;VALUE=DATE:20180827
DTEND;VALUE=DATE:20180828
DTSTAMP:20260420T224357
CREATED:20180525T103350Z
LAST-MODIFIED:20180525T103350Z
UID:26953-1535328000-1535414399@tonis.is
SUMMARY:Kennsla hefst
DESCRIPTION:Kennsla hefst á nýju skólaári þann 27.ágúst
URL:https://tonis.is/event/kennsla-hefst/
LOCATION:Tónlistarskólinn\, Austurvegur 11\, Ísafjörður\, 400\, Iceland
ATTACH;FMTTYPE=image/jpeg:https://tonis.is/wp-content/uploads/2018/03/Tonlistardagurinn-mikli-2008-529.jpg
END:VEVENT
BEGIN:VEVENT
DTSTART;TZID=Atlantic/Reykjavik:20180820T080000
DTEND;TZID=Atlantic/Reykjavik:20180823T170000
DTSTAMP:20260420T224357
CREATED:20180525T103455Z
LAST-MODIFIED:20180525T103455Z
UID:26955-1534752000-1535043600@tonis.is
SUMMARY:Starfsdagar
DESCRIPTION:
URL:https://tonis.is/event/starfsdagar/
END:VEVENT
BEGIN:VEVENT
DTSTART;TZID=Atlantic/Reykjavik:20180815T080000
DTEND;TZID=Atlantic/Reykjavik:20180817T170000
DTSTAMP:20260420T224357
CREATED:20180525T103135Z
LAST-MODIFIED:20180525T103135Z
UID:26950-1534320000-1534525200@tonis.is
SUMMARY:Innritunardagar
DESCRIPTION:Innritunardagar fyrir nýtt skólaár. Umsóknarform má finna á heimsíðunni. Gott að er að hafa samband við skrifstofu opin frá 10:30 – 14:30 til þess að ganga frá greiðslufyrirkomulagi
URL:https://tonis.is/event/innritunardagar/
LOCATION:Tónlistarskólinn\, Austurvegur 11\, Ísafjörður\, 400\, Iceland
ATTACH;FMTTYPE=image/jpeg:https://tonis.is/wp-content/uploads/2018/03/Tonlistardagurinn-mikli-2008-525.jpg
ORGANIZER;CN="T%C3%B3nlistarsk%C3%B3li %C3%8Dsafjar%C3%B0ar":MAILTO:tonis@tonis.is
END:VEVENT
END:VCALENDAR