BEGIN:VCALENDAR
VERSION:2.0
PRODID:-//Tónlistarskóli Ísafjarðar - ECPv6.15.20//NONSGML v1.0//EN
CALSCALE:GREGORIAN
METHOD:PUBLISH
X-WR-CALNAME:Tónlistarskóli Ísafjarðar
X-ORIGINAL-URL:https://tonis.is
X-WR-CALDESC:Events for Tónlistarskóli Ísafjarðar
REFRESH-INTERVAL;VALUE=DURATION:PT1H
X-Robots-Tag:noindex
X-PUBLISHED-TTL:PT1H
BEGIN:VTIMEZONE
TZID:Atlantic/Reykjavik
BEGIN:STANDARD
TZOFFSETFROM:+0000
TZOFFSETTO:+0000
TZNAME:GMT
DTSTART:20170101T000000
END:STANDARD
END:VTIMEZONE
BEGIN:VEVENT
DTSTART;TZID=Atlantic/Reykjavik:20180423T193000
DTEND;TZID=Atlantic/Reykjavik:20180423T213000
DTSTAMP:20260421T074043
CREATED:20180418T120149Z
LAST-MODIFIED:20180418T120149Z
UID:26831-1524511800-1524519000@tonis.is
SUMMARY:Leðurblakan
DESCRIPTION:Nemendaópera Söngskólans í Reykjavík kemur til Ísafjarðar í næstu viku með stórskemmtilega uppsetningu á óperettunni Leðurblökunni eftir Johann Strauss II. Leðurblakan verður sýnd í samvinnu við Tónlistarskóla Ísafjarðar í Edinborgarhúsinu mánudagskvöldið 23. apríl kl. 19:30.  Heimamenn taka þátt í sýningunni\, þar á meðal félagar úr Sunnukórnum\, félagar úr Leikfélagi MÍ\, nemendur úr Tónlistarskóla Bolungarvíkur og nemendur söngdeildar Tónlistarskóla Ísafjarðar.
URL:https://tonis.is/event/ledurblakan/
LOCATION:Edinborgarhúsið
ATTACH;FMTTYPE=image/jpeg:https://tonis.is/wp-content/uploads/2018/04/leðurblakan-mynd.jpeg
END:VEVENT
END:VCALENDAR