BEGIN:VCALENDAR
VERSION:2.0
PRODID:-//Tónlistarskóli Ísafjarðar - ECPv6.15.20//NONSGML v1.0//EN
CALSCALE:GREGORIAN
METHOD:PUBLISH
X-WR-CALNAME:Tónlistarskóli Ísafjarðar
X-ORIGINAL-URL:https://tonis.is
X-WR-CALDESC:Events for Tónlistarskóli Ísafjarðar
REFRESH-INTERVAL;VALUE=DURATION:PT1H
X-Robots-Tag:noindex
X-PUBLISHED-TTL:PT1H
BEGIN:VTIMEZONE
TZID:Atlantic/Reykjavik
BEGIN:STANDARD
TZOFFSETFROM:+0000
TZOFFSETTO:+0000
TZNAME:GMT
DTSTART:20240101T000000
END:STANDARD
END:VTIMEZONE
BEGIN:VEVENT
DTSTART;TZID=Atlantic/Reykjavik:20250530T180000
DTEND;TZID=Atlantic/Reykjavik:20250530T180000
DTSTAMP:20260417T102421
CREATED:20250522T114414Z
LAST-MODIFIED:20250522T114414Z
UID:32384-1748628000-1748628000@tonis.is
SUMMARY:Skólaslit 2025
DESCRIPTION:
URL:https://tonis.is/event/skolaslit-2025/
LOCATION:Tónlistarskólinn Hamrar
END:VEVENT
END:VCALENDAR