BEGIN:VCALENDAR
VERSION:2.0
PRODID:-//Tónlistarskóli Ísafjarðar - ECPv6.15.20//NONSGML v1.0//EN
CALSCALE:GREGORIAN
METHOD:PUBLISH
X-ORIGINAL-URL:https://tonis.is
X-WR-CALDESC:Events for Tónlistarskóli Ísafjarðar
REFRESH-INTERVAL;VALUE=DURATION:PT1H
X-Robots-Tag:noindex
X-PUBLISHED-TTL:PT1H
BEGIN:VTIMEZONE
TZID:Atlantic/Reykjavik
BEGIN:STANDARD
TZOFFSETFROM:+0000
TZOFFSETTO:+0000
TZNAME:GMT
DTSTART:20230101T000000
END:STANDARD
END:VTIMEZONE
BEGIN:VEVENT
DTSTART;TZID=Atlantic/Reykjavik:20240529T180000
DTEND;TZID=Atlantic/Reykjavik:20240529T183000
DTSTAMP:20260421T202148
CREATED:20230508T084233Z
LAST-MODIFIED:20240514T143010Z
UID:29911-1717005600-1717007400@tonis.is
SUMMARY:Skólaslit Tónlistarskólans 29. maí kl. 18
DESCRIPTION:Skólaslit Tónlistarskólans verða í Ísafjarðarkirkju þriðjudaginn 29. maí kl. 18
URL:https://tonis.is/event/skolaslit-tonlistarskolans-29-mai/
ATTACH;FMTTYPE=image/jpeg:https://tonis.is/wp-content/uploads/2022/05/IMG_4587.jpeg
END:VEVENT
END:VCALENDAR