BEGIN:VCALENDAR
VERSION:2.0
PRODID:-//Tónlistarskóli Ísafjarðar - ECPv6.15.20//NONSGML v1.0//EN
CALSCALE:GREGORIAN
METHOD:PUBLISH
X-ORIGINAL-URL:https://tonis.is
X-WR-CALDESC:Events for Tónlistarskóli Ísafjarðar
REFRESH-INTERVAL;VALUE=DURATION:PT1H
X-Robots-Tag:noindex
X-PUBLISHED-TTL:PT1H
BEGIN:VTIMEZONE
TZID:Atlantic/Reykjavik
BEGIN:STANDARD
TZOFFSETFROM:+0000
TZOFFSETTO:+0000
TZNAME:GMT
DTSTART:20230101T000000
END:STANDARD
END:VTIMEZONE
BEGIN:VEVENT
DTSTART;TZID=Atlantic/Reykjavik:20240522T173000
DTEND;TZID=Atlantic/Reykjavik:20240522T180000
DTSTAMP:20260421T202139
CREATED:20240129T104237Z
LAST-MODIFIED:20240509T105241Z
UID:31175-1716399000-1716400800@tonis.is
SUMMARY:Vortónleikar miðvikudaginn 22. maí í Hömrum kl 17.30
DESCRIPTION:Vortónleikar miðvikudaginn 22. maí  kl. 17.30 í Hömrum\nKennarar: Madis / Skúli / Mikolaj
URL:https://tonis.is/event/vortonleikar-22-mai-i-homrum/
ATTACH;FMTTYPE=image/jpeg:https://tonis.is/wp-content/uploads/2023/05/IMG_8459.jpeg
END:VEVENT
BEGIN:VEVENT
DTSTART;TZID=Atlantic/Reykjavik:20240522T183000
DTEND;TZID=Atlantic/Reykjavik:20240522T193000
DTSTAMP:20260421T202139
CREATED:20240213T104812Z
LAST-MODIFIED:20240509T105155Z
UID:31265-1716402600-1716406200@tonis.is
SUMMARY:Vortónleikar miðvikudaginn 22. maí kl. 18.30 í Hömrum
DESCRIPTION:Vortónleikar miðvikudaginn 22. maí kl. 18.30 í Hömrum \nKennari Skúli
URL:https://tonis.is/event/vortonleikar-22-mai-i-homrum-2/
ATTACH;FMTTYPE=image/jpeg:https://tonis.is/wp-content/uploads/2023/05/IMG_8459.jpeg
END:VEVENT
END:VCALENDAR