BEGIN:VCALENDAR
VERSION:2.0
PRODID:-//Tónlistarskóli Ísafjarðar - ECPv6.15.20//NONSGML v1.0//EN
CALSCALE:GREGORIAN
METHOD:PUBLISH
X-WR-CALNAME:Tónlistarskóli Ísafjarðar
X-ORIGINAL-URL:https://tonis.is
X-WR-CALDESC:Events for Tónlistarskóli Ísafjarðar
REFRESH-INTERVAL;VALUE=DURATION:PT1H
X-Robots-Tag:noindex
X-PUBLISHED-TTL:PT1H
BEGIN:VTIMEZONE
TZID:Atlantic/Reykjavik
BEGIN:STANDARD
TZOFFSETFROM:+0000
TZOFFSETTO:+0000
TZNAME:GMT
DTSTART:20230101T000000
END:STANDARD
END:VTIMEZONE
BEGIN:VEVENT
DTSTART;VALUE=DATE:20240508
DTEND;VALUE=DATE:20240513
DTSTAMP:20260421T201922
CREATED:20230531T103823Z
LAST-MODIFIED:20230531T103823Z
UID:30215-1715126400-1715558399@tonis.is
SUMMARY:Skólakóramót í Danmörku
DESCRIPTION:Skólakór Tónlistarskólans tekur þátt í norrænu kóramóti í Danmörku. \nKórstjóri er Bjarney Ingibjörg Gunnlaugsdóttir
URL:https://tonis.is/event/skolakoramot-i-danmorku/
ATTACH;FMTTYPE=image/jpeg:https://tonis.is/wp-content/uploads/2023/05/IMG_8842.jpeg
END:VEVENT
END:VCALENDAR