BEGIN:VCALENDAR
VERSION:2.0
PRODID:-//Tónlistarskóli Ísafjarðar - ECPv6.15.20//NONSGML v1.0//EN
CALSCALE:GREGORIAN
METHOD:PUBLISH
X-ORIGINAL-URL:https://tonis.is
X-WR-CALDESC:Events for Tónlistarskóli Ísafjarðar
REFRESH-INTERVAL;VALUE=DURATION:PT1H
X-Robots-Tag:noindex
X-PUBLISHED-TTL:PT1H
BEGIN:VTIMEZONE
TZID:Atlantic/Reykjavik
BEGIN:STANDARD
TZOFFSETFROM:+0000
TZOFFSETTO:+0000
TZNAME:GMT
DTSTART:20230101T000000
END:STANDARD
END:VTIMEZONE
BEGIN:VEVENT
DTSTART;TZID=Atlantic/Reykjavik:20240428T170000
DTEND;TZID=Atlantic/Reykjavik:20240428T180000
DTSTAMP:20260417T103910
CREATED:20240228T105452Z
LAST-MODIFIED:20240422T075929Z
UID:31378-1714323600-1714327200@tonis.is
SUMMARY:Hallveig og Hrönn - tónleikar í Hömrum 28.apríl kl.17
DESCRIPTION:Hallveig Rúnarsdóttir og Hrönn Þráinsdóttir – tónleikar í Hömrum sunnudaginn 28. apríl  kl. 17. \n 
URL:https://tonis.is/event/hallveig-og-hronn-tonleikar-i-homrum/
ATTACH;FMTTYPE=image/jpeg:https://tonis.is/wp-content/uploads/2024/04/Hallveig-Hronn-1.jpeg
END:VEVENT
END:VCALENDAR