BEGIN:VCALENDAR
VERSION:2.0
PRODID:-//Tónlistarskóli Ísafjarðar - ECPv6.15.20//NONSGML v1.0//EN
CALSCALE:GREGORIAN
METHOD:PUBLISH
X-WR-CALNAME:Tónlistarskóli Ísafjarðar
X-ORIGINAL-URL:https://tonis.is
X-WR-CALDESC:Events for Tónlistarskóli Ísafjarðar
REFRESH-INTERVAL;VALUE=DURATION:PT1H
X-Robots-Tag:noindex
X-PUBLISHED-TTL:PT1H
BEGIN:VTIMEZONE
TZID:Atlantic/Reykjavik
BEGIN:STANDARD
TZOFFSETFROM:+0000
TZOFFSETTO:+0000
TZNAME:GMT
DTSTART:20230101T000000
END:STANDARD
END:VTIMEZONE
BEGIN:VEVENT
DTSTART;TZID=Atlantic/Reykjavik:20240302T160000
DTEND;TZID=Atlantic/Reykjavik:20240302T170000
DTSTAMP:20260421T152854
CREATED:20240125T110823Z
LAST-MODIFIED:20240125T110823Z
UID:31150-1709395200-1709398800@tonis.is
SUMMARY:Sunna Karen í Hömrum
DESCRIPTION:Sunna Karen í Hömrum laugardaginn 2. mars kl. 16.
URL:https://tonis.is/event/sunna-karen-i-homrum/
ATTACH;FMTTYPE=image/jpeg:https://tonis.is/wp-content/uploads/2024/01/Sunna-Karen.jpeg
END:VEVENT
END:VCALENDAR