BEGIN:VCALENDAR
VERSION:2.0
PRODID:-//Tónlistarskóli Ísafjarðar - ECPv6.15.20//NONSGML v1.0//EN
CALSCALE:GREGORIAN
METHOD:PUBLISH
X-ORIGINAL-URL:https://tonis.is
X-WR-CALDESC:Events for Tónlistarskóli Ísafjarðar
REFRESH-INTERVAL;VALUE=DURATION:PT1H
X-Robots-Tag:noindex
X-PUBLISHED-TTL:PT1H
BEGIN:VTIMEZONE
TZID:Atlantic/Reykjavik
BEGIN:STANDARD
TZOFFSETFROM:+0000
TZOFFSETTO:+0000
TZNAME:GMT
DTSTART:20230101T000000
END:STANDARD
END:VTIMEZONE
BEGIN:VEVENT
DTSTART;TZID=Atlantic/Reykjavik:20240224T140000
DTEND;TZID=Atlantic/Reykjavik:20240224T160000
DTSTAMP:20260421T153914
CREATED:20230508T083707Z
LAST-MODIFIED:20240207T101302Z
UID:29905-1708783200-1708790400@tonis.is
SUMMARY:Dagur tónlistarskólanna 2024
DESCRIPTION:Dagur tónlistarskólanna 2024\nDagur tónlistarskólanna 2024 verður haldinn hátíðlegur með tónlistarveislu í Ísafjarðarkirkju laugardaginn 24. febrúar kl. 14. Ókeypis aðgangur. \nAð loknum tónleikunum verður kaffisala Skólakórsins í safnaðarheimili kirkjunnar til styrktar Danmerkurferð kórsins.
URL:https://tonis.is/event/dagur-tonlistarskolanna-2024/
ATTACH;FMTTYPE=image/jpeg:https://tonis.is/wp-content/uploads/2024/01/Dagur-tonlistarskolanna-2024.jpeg
END:VEVENT
END:VCALENDAR