BEGIN:VCALENDAR
VERSION:2.0
PRODID:-//Tónlistarskóli Ísafjarðar - ECPv6.15.20//NONSGML v1.0//EN
CALSCALE:GREGORIAN
METHOD:PUBLISH
X-WR-CALNAME:Tónlistarskóli Ísafjarðar
X-ORIGINAL-URL:https://tonis.is
X-WR-CALDESC:Events for Tónlistarskóli Ísafjarðar
REFRESH-INTERVAL;VALUE=DURATION:PT1H
X-Robots-Tag:noindex
X-PUBLISHED-TTL:PT1H
BEGIN:VTIMEZONE
TZID:Atlantic/Reykjavik
BEGIN:STANDARD
TZOFFSETFROM:+0000
TZOFFSETTO:+0000
TZNAME:GMT
DTSTART:20220101T000000
END:STANDARD
END:VTIMEZONE
BEGIN:VEVENT
DTSTART;TZID=Atlantic/Reykjavik:20231214T120000
DTEND;TZID=Atlantic/Reykjavik:20231214T123000
DTSTAMP:20260421T121552
CREATED:20231204T122218Z
LAST-MODIFIED:20231204T122429Z
UID:30960-1702555200-1702557000@tonis.is
SUMMARY:Pétur Ernir – Hádegistónleikar Hömrum\, 14. desember klukkan 12
DESCRIPTION:Pétur Ernir – Hádegistónleikar Hömrum\, 14. desember klukkan 12\nMEIRA HÉR \nPétur Ernir
URL:https://tonis.is/event/petur-ernir-hadegistonleikar-homrum-14-desember-klukkan-12/
ATTACH;FMTTYPE=image/jpeg:https://tonis.is/wp-content/uploads/2023/12/Petur-Ernir-_3668551856364981764_n.jpg
END:VEVENT
BEGIN:VEVENT
DTSTART;TZID=Atlantic/Reykjavik:20231214T173000
DTEND;TZID=Atlantic/Reykjavik:20231214T183000
DTSTAMP:20260421T121552
CREATED:20231024T103629Z
LAST-MODIFIED:20231108T150041Z
UID:30719-1702575000-1702578600@tonis.is
SUMMARY:Jólatónleikar 14. des kl 17.30
DESCRIPTION:Jólatónleikar 14. des kl 17.30 \nKennarar Jón Mar\, Madis og Andri Pétur.
URL:https://tonis.is/event/jolatonleikar-14-des-kl-17-30/
END:VEVENT
BEGIN:VEVENT
DTSTART;TZID=Atlantic/Reykjavik:20231214T190000
DTEND;TZID=Atlantic/Reykjavik:20231214T200000
DTSTAMP:20260421T121552
CREATED:20231024T103719Z
LAST-MODIFIED:20231108T150114Z
UID:30721-1702580400-1702584000@tonis.is
SUMMARY:Jólatónleikar 14. des kl 19
DESCRIPTION:Jólatónleikar 14. des kl 19 \nUmsjón Andri Pétur
URL:https://tonis.is/event/jolatonleikar-14-des-kl-19-2/
END:VEVENT
END:VCALENDAR