BEGIN:VCALENDAR
VERSION:2.0
PRODID:-//Tónlistarskóli Ísafjarðar - ECPv6.15.20//NONSGML v1.0//EN
CALSCALE:GREGORIAN
METHOD:PUBLISH
X-ORIGINAL-URL:https://tonis.is
X-WR-CALDESC:Events for Tónlistarskóli Ísafjarðar
REFRESH-INTERVAL;VALUE=DURATION:PT1H
X-Robots-Tag:noindex
X-PUBLISHED-TTL:PT1H
BEGIN:VTIMEZONE
TZID:Atlantic/Reykjavik
BEGIN:STANDARD
TZOFFSETFROM:+0000
TZOFFSETTO:+0000
TZNAME:GMT
DTSTART:20220101T000000
END:STANDARD
END:VTIMEZONE
BEGIN:VEVENT
DTSTART;TZID=Atlantic/Reykjavik:20231212T173000
DTEND;TZID=Atlantic/Reykjavik:20231212T183000
DTSTAMP:20260421T121917
CREATED:20231024T103252Z
LAST-MODIFIED:20231108T145523Z
UID:30711-1702402200-1702405800@tonis.is
SUMMARY:Jólatónleikar 12. des kl 17.30
DESCRIPTION:Jólatónleikar 12. des kl 17.30 í Hömrum \nUmsjón Micolaj
URL:https://tonis.is/event/jolatonleikar-12-des-kl-17-30/
END:VEVENT
BEGIN:VEVENT
DTSTART;TZID=Atlantic/Reykjavik:20231212T183000
DTEND;TZID=Atlantic/Reykjavik:20231212T193000
DTSTAMP:20260421T121917
CREATED:20231024T103337Z
LAST-MODIFIED:20231108T145611Z
UID:30713-1702405800-1702409400@tonis.is
SUMMARY:Jólatónleikar 12. des kl 18.30
DESCRIPTION:Jólatónleikar 12. des kl 18.30 \nKennarar Rúna\, Madis og Mikolaj.
URL:https://tonis.is/event/jolatonleikar-12-des-kl-18-30/
END:VEVENT
BEGIN:VEVENT
DTSTART;TZID=Atlantic/Reykjavik:20231212T193000
DTEND;TZID=Atlantic/Reykjavik:20231212T203000
DTSTAMP:20260421T121917
CREATED:20231024T104008Z
LAST-MODIFIED:20231108T145659Z
UID:30725-1702409400-1702413000@tonis.is
SUMMARY:Jólatónleikar 12. des kl 19.30
DESCRIPTION:Jólatónleikar 12. des kl 19.30 \nKennarar Ágústa og Bea.
URL:https://tonis.is/event/jolatonleikar-12-des-kl-19-30/
END:VEVENT
END:VCALENDAR