BEGIN:VCALENDAR
VERSION:2.0
PRODID:-//Tónlistarskóli Ísafjarðar - ECPv6.15.20//NONSGML v1.0//EN
CALSCALE:GREGORIAN
METHOD:PUBLISH
X-ORIGINAL-URL:https://tonis.is
X-WR-CALDESC:Events for Tónlistarskóli Ísafjarðar
REFRESH-INTERVAL;VALUE=DURATION:PT1H
X-Robots-Tag:noindex
X-PUBLISHED-TTL:PT1H
BEGIN:VTIMEZONE
TZID:Atlantic/Reykjavik
BEGIN:STANDARD
TZOFFSETFROM:+0000
TZOFFSETTO:+0000
TZNAME:GMT
DTSTART:20220101T000000
END:STANDARD
END:VTIMEZONE
BEGIN:VEVENT
DTSTART;TZID=Atlantic/Reykjavik:20231211T173000
DTEND;TZID=Atlantic/Reykjavik:20231211T183000
DTSTAMP:20260417T104345
CREATED:20231024T103054Z
LAST-MODIFIED:20231108T150511Z
UID:30707-1702315800-1702319400@tonis.is
SUMMARY:Jólatónleikar 11. des kl 17.30
DESCRIPTION:Jólatónleikar 11. des kl 17.30 í Hömrum \nKennarar Janusz\, Iwona \, Mikolaj og Skúli.
URL:https://tonis.is/event/jolatonleikar-11-des-kl-17-30/
END:VEVENT
BEGIN:VEVENT
DTSTART;TZID=Atlantic/Reykjavik:20231211T190000
DTEND;TZID=Atlantic/Reykjavik:20231211T200000
DTSTAMP:20260417T104345
CREATED:20231024T103152Z
LAST-MODIFIED:20231108T145445Z
UID:30709-1702321200-1702324800@tonis.is
SUMMARY:Jólatónleikar 11. des kl 19
DESCRIPTION:Jólatónleikar 11. des kl 19 \nKennarar Janusz\, Iwona \, Mikolaj og  Skúli.
URL:https://tonis.is/event/jolatonleikar-11-des-kl-19/
END:VEVENT
END:VCALENDAR