BEGIN:VCALENDAR
VERSION:2.0
PRODID:-//Tónlistarskóli Ísafjarðar - ECPv6.15.20//NONSGML v1.0//EN
CALSCALE:GREGORIAN
METHOD:PUBLISH
X-ORIGINAL-URL:https://tonis.is
X-WR-CALDESC:Events for Tónlistarskóli Ísafjarðar
REFRESH-INTERVAL;VALUE=DURATION:PT1H
X-Robots-Tag:noindex
X-PUBLISHED-TTL:PT1H
BEGIN:VTIMEZONE
TZID:Atlantic/Reykjavik
BEGIN:STANDARD
TZOFFSETFROM:+0000
TZOFFSETTO:+0000
TZNAME:GMT
DTSTART:20220101T000000
END:STANDARD
END:VTIMEZONE
BEGIN:VEVENT
DTSTART;TZID=Atlantic/Reykjavik:20231208T170000
DTEND;TZID=Atlantic/Reykjavik:20231208T180000
DTSTAMP:20260415T193210
CREATED:20231024T102844Z
LAST-MODIFIED:20231108T145054Z
UID:30703-1702054800-1702058400@tonis.is
SUMMARY:Jólatónleikar 8. des kl 17 á Suðureyri
DESCRIPTION:Jólatónleikar 8. des kl 17 í kirkjunni á Suðureyri. \nUmsjón Sara Hrund
URL:https://tonis.is/event/jolatonleikar-8-des-kl-17-a-sudureyri/
END:VEVENT
END:VCALENDAR