BEGIN:VCALENDAR
VERSION:2.0
PRODID:-//Tónlistarskóli Ísafjarðar - ECPv6.15.20//NONSGML v1.0//EN
CALSCALE:GREGORIAN
METHOD:PUBLISH
X-WR-CALNAME:Tónlistarskóli Ísafjarðar
X-ORIGINAL-URL:https://tonis.is
X-WR-CALDESC:Events for Tónlistarskóli Ísafjarðar
REFRESH-INTERVAL;VALUE=DURATION:PT1H
X-Robots-Tag:noindex
X-PUBLISHED-TTL:PT1H
BEGIN:VTIMEZONE
TZID:Atlantic/Reykjavik
BEGIN:STANDARD
TZOFFSETFROM:+0000
TZOFFSETTO:+0000
TZNAME:GMT
DTSTART:20220101T000000
END:STANDARD
END:VTIMEZONE
BEGIN:VEVENT
DTSTART;TZID=Atlantic/Reykjavik:20231207T173000
DTEND;TZID=Atlantic/Reykjavik:20231207T180000
DTSTAMP:20260421T121508
CREATED:20231024T102947Z
LAST-MODIFIED:20231113T134633Z
UID:30705-1701970200-1701972000@tonis.is
SUMMARY:Jólatónleikar 7. des kl 17.30
DESCRIPTION:Jólatónleikar 7. des kl 17.30 \nKennarar Skúli og Madis
URL:https://tonis.is/event/jolatonleikar-7-des-kl-17-30/
END:VEVENT
END:VCALENDAR